BEGIN:VCALENDAR
VERSION:2.0
PRODID:-//Team Mario - ECPv6.15.13.1//NONSGML v1.0//EN
CALSCALE:GREGORIAN
METHOD:PUBLISH
X-ORIGINAL-URL:https://teammario.org
X-WR-CALDESC:Events for Team Mario
REFRESH-INTERVAL;VALUE=DURATION:PT1H
X-Robots-Tag:noindex
X-PUBLISHED-TTL:PT1H
BEGIN:VTIMEZONE
TZID:America/Chicago
BEGIN:DAYLIGHT
TZOFFSETFROM:-0600
TZOFFSETTO:-0500
TZNAME:CDT
DTSTART:20220313T080000
END:DAYLIGHT
BEGIN:STANDARD
TZOFFSETFROM:-0500
TZOFFSETTO:-0600
TZNAME:CST
DTSTART:20221106T070000
END:STANDARD
BEGIN:DAYLIGHT
TZOFFSETFROM:-0600
TZOFFSETTO:-0500
TZNAME:CDT
DTSTART:20230312T080000
END:DAYLIGHT
BEGIN:STANDARD
TZOFFSETFROM:-0500
TZOFFSETTO:-0600
TZNAME:CST
DTSTART:20231105T070000
END:STANDARD
BEGIN:DAYLIGHT
TZOFFSETFROM:-0600
TZOFFSETTO:-0500
TZNAME:CDT
DTSTART:20240310T080000
END:DAYLIGHT
BEGIN:STANDARD
TZOFFSETFROM:-0500
TZOFFSETTO:-0600
TZNAME:CST
DTSTART:20241103T070000
END:STANDARD
END:VTIMEZONE
BEGIN:VEVENT
DTSTART;TZID=America/Chicago:20231102T080000
DTEND;TZID=America/Chicago:20231103T160000
DTSTAMP:20260425T212452
CREATED:20230729T153231Z
LAST-MODIFIED:20231029T151203Z
UID:10001816-1698912000-1699027200@teammario.org
SUMMARY:2023 Autism Conference
DESCRIPTION:Conference is SOLD OUT!\nFor registration and sponsorship questions\, please contact us at info@teammario.org. \n*****NO ON-SITE REGISTRATION…CONFERENCE IS SOLD OUT***** \nTEAM MARIO’S AUTISM CONFERENCE \nNovember 2-3\, 2023 \nEdinburg Conference Center at Renaissance \nCONFERENCE INFO \n  \nDownload Whova App \n  \n  \n  \n  \n 
URL:https://teammario.org/event/2023-autism-conference/
ATTACH;FMTTYPE=image/jpeg:https://teammario.org/wp-content/uploads/2023/07/2023-Autism-Conference-1-scaled-e1696902982972.jpg
END:VEVENT
BEGIN:VEVENT
DTSTART;TZID=America/Chicago:20231104T093000
DTEND;TZID=America/Chicago:20231104T093000
DTSTAMP:20260425T212452
CREATED:20231003T222457Z
LAST-MODIFIED:20231101T014717Z
UID:10001846-1699090200-1699090200@teammario.org
SUMMARY:Valley Nature Center Event
DESCRIPTION:
URL:https://teammario.org/event/valley-nature-center-event/
ATTACH;FMTTYPE=image/jpeg:https://teammario.org/wp-content/uploads/2023/10/VNC23-1-1-scaled-e1696371875985.jpg
END:VEVENT
BEGIN:VEVENT
DTSTART;TZID=America/Chicago:20231106T080000
DTEND;TZID=America/Chicago:20231106T080000
DTSTAMP:20260425T212452
CREATED:20231001T235044Z
LAST-MODIFIED:20231001T235044Z
UID:10001843-1699257600-1699257600@teammario.org
SUMMARY:SOAR PROGRAM
DESCRIPTION:Now accepting applications for 2024… \nplease fill out application and return by November 6th
URL:https://teammario.org/event/soar-program/
ATTACH;FMTTYPE=image/jpeg:https://teammario.org/wp-content/uploads/2023/10/soar-flyer-1-scaled.jpg
END:VEVENT
END:VCALENDAR