BEGIN:VCALENDAR
VERSION:2.0
PRODID:-//Team Mario - ECPv6.15.13.1//NONSGML v1.0//EN
CALSCALE:GREGORIAN
METHOD:PUBLISH
X-WR-CALNAME:Team Mario
X-ORIGINAL-URL:https://teammario.org
X-WR-CALDESC:Events for Team Mario
REFRESH-INTERVAL;VALUE=DURATION:PT1H
X-Robots-Tag:noindex
X-PUBLISHED-TTL:PT1H
BEGIN:VTIMEZONE
TZID:America/Chicago
BEGIN:DAYLIGHT
TZOFFSETFROM:-0600
TZOFFSETTO:-0500
TZNAME:CDT
DTSTART:20220313T080000
END:DAYLIGHT
BEGIN:STANDARD
TZOFFSETFROM:-0500
TZOFFSETTO:-0600
TZNAME:CST
DTSTART:20221106T070000
END:STANDARD
BEGIN:DAYLIGHT
TZOFFSETFROM:-0600
TZOFFSETTO:-0500
TZNAME:CDT
DTSTART:20230312T080000
END:DAYLIGHT
BEGIN:STANDARD
TZOFFSETFROM:-0500
TZOFFSETTO:-0600
TZNAME:CST
DTSTART:20231105T070000
END:STANDARD
BEGIN:DAYLIGHT
TZOFFSETFROM:-0600
TZOFFSETTO:-0500
TZNAME:CDT
DTSTART:20240310T080000
END:DAYLIGHT
BEGIN:STANDARD
TZOFFSETFROM:-0500
TZOFFSETTO:-0600
TZNAME:CST
DTSTART:20241103T070000
END:STANDARD
END:VTIMEZONE
BEGIN:VEVENT
DTSTART;TZID=America/Chicago:20230717T090000
DTEND;TZID=America/Chicago:20230721T130000
DTSTAMP:20260424T190949
CREATED:20230630T233549Z
LAST-MODIFIED:20230630T233549Z
UID:10001817-1689584400-1689944400@teammario.org
SUMMARY:Strive to Thrive Camp VNC
DESCRIPTION:Strive to Thrive Camp \nValley Nature Center \nJuly 17-21 \n  \n 
URL:https://teammario.org/event/strive-to-thrive-camp-vnc/
ATTACH;FMTTYPE=image/jpeg:https://teammario.org/wp-content/uploads/2023/06/VNC23-1-scaled-e1688167954664.jpg
END:VEVENT
BEGIN:VEVENT
DTSTART;TZID=America/Chicago:20230722T180000
DTEND;TZID=America/Chicago:20230722T180000
DTSTAMP:20260424T190949
CREATED:20230416T224146Z
LAST-MODIFIED:20230416T224146Z
UID:10001812-1690048800-1690048800@teammario.org
SUMMARY:2023 Loteria
DESCRIPTION:Loteria Fundraiser \nJuly 22\, 2023 \nSponsorship opportunities are available\, please send us an email to info@teammario.org for additional information.
URL:https://teammario.org/event/2023-loteria/
ATTACH;FMTTYPE=image/jpeg:https://teammario.org/wp-content/uploads/2023/04/loteria-2023-1-e1681684801428.jpg
END:VEVENT
END:VCALENDAR